BEGIN:VCALENDAR
VERSION:2.0
PRODID:-//eventon.com NONSGML v1.0//EN
CALSCALE:GREGORIAN
METHOD:PUBLISH
BEGIN:VEVENT
UID:69ec1054470bb
DTSTAMP:20260425T005236Z
DTSTART:20260327T143000Z
DTEND:20260327T163000Z
LOCATION:Dorfkirche Wegezin L31
SUMMARY:Friedhofseinsatz Wegezin
DESCRIPTION:Arbeitsgeräte (auch für Heckenschnitt) bitte mitbringen! Wir 
 bitten um rege Teilnahme! Der Ortsausschuss Wegezin\nhttps://www.wegezin.de
 /events/friedhofseinsatz-wegezin
URL:https://www.wegezin.de/events/friedhofseinsatz-wegezin
END:VEVENT
END:VCALENDAR